BEGIN:VCALENDAR
VERSION:2.0
PRODID:-//wp-events-plugin.com//7.2.3.1//EN
TZID:Europe/Berlin
X-WR-TIMEZONE:Europe/Berlin
BEGIN:VEVENT
UID:36@griesshaberfamily.de
DTSTART;TZID=Europe/Berlin:20240401T153000
DTEND;TZID=Europe/Berlin:20240401T170000
DTSTAMP:20240321T132359Z
URL:https://www.griesshaberfamily.de/events/kurkonzert-koenigsfeld
SUMMARY:Kurkonzert Königsfeld
DESCRIPTION:Es ist immer wieder schön in Königsfeld zu spielen.\nDieses J
 ahr werden wir ein Schwarzwälder Unterhaltungsnachmittag mit viel Musik a
 us dem Schwarzwald machen.\n\nUnsere beliebte Musik\, das Publikum und das
  Ambiente - Alles passt zueinander\n\n&nbsp\;\n\nEintritt: 3€\n\n&nbsp\;
 \n\nHier ein Musikbeispiel vom Kurkonzert in Königsfeld: Dr alte Schittsc
 hdoa - YouTube
ATTACH;FMTTYPE=image/jpeg:https://www.griesshaberfamily.de/wp-content/uplo
 ads/2022/02/Griesshaber-Family_homepage_icon.jpg
CATEGORIES:Grießhaber-Family
LOCATION:Haus des Gastes Königsfeld\, Sebastian-Kneipp-Weg 1\, 78126 Köni
 gsfeld\, Deutschland
X-APPLE-STRUCTURED-LOCATION;VALUE=URI;X-ADDRESS=Sebastian-Kneipp-Weg 1\, 78
 126 Königsfeld\, Deutschland;X-APPLE-RADIUS=100;X-TITLE=Haus des Gastes K
 önigsfeld:geo:0,0
END:VEVENT
BEGIN:VTIMEZONE
TZID:Europe/Berlin
X-LIC-LOCATION:Europe/Berlin
BEGIN:DAYLIGHT
DTSTART:20240331T030000
TZOFFSETFROM:+0100
TZOFFSETTO:+0200
TZNAME:CEST
END:DAYLIGHT
END:VTIMEZONE
END:VCALENDAR